View In:
ArcGIS JavaScript
ArcGIS Online Map Viewer
ArcGIS Earth
ArcGIS Pro
Service Description: <DIV STYLE="text-align:Left;font-size:12pt"><P><SPAN>Channel Migration Zones (CMZs) are protected areas designated by WA Dept of Ecology as locations that a stream channel could migrate in. Also included is the regulatory buffer from the Pend Oreille County Development Regulations.</SPAN></P></DIV>
Map Name: Channel Migration Zones
Legend
All Layers and Tables
Layers:
Description: <DIV STYLE="text-align:Left;font-size:12pt"><P><SPAN>Channel Migration Zones (CMZs) are protected areas designated by WA Dept of Ecology as locations that a stream channel could migrate in. Also included is the regulatory buffer from the Pend Oreille County Development Regulations.</SPAN></P></DIV>
Service Item Id: a78db504eb5c47fc823493a75c8784fd
Copyright Text: Pend Oreille County GIS
Spatial Reference:
102100
(3857)
LatestVCSWkid(0)
Single Fused Map Cache: true
Tile Info:
- Height: 256.0
- Width: 256.0
- DPI: 96.0
-
Levels of Detail: 24
-
Level ID: 1
[ Start Tile, End Tile ]
- Resolution: 78271.5169639999
- Scale: 2.95828763795777E8
-
Level ID: 2
[ Start Tile, End Tile ]
- Resolution: 39135.7584820001
- Scale: 1.47914381897889E8
-
Level ID: 3
[ Start Tile, End Tile ]
- Resolution: 19567.8792409999
- Scale: 7.3957190948944E7
-
Level ID: 4
[ Start Tile, End Tile ]
- Resolution: 9783.93962049996
- Scale: 3.6978595474472E7
-
Level ID: 5
[ Start Tile, End Tile ]
- Resolution: 4891.96981024998
- Scale: 1.8489297737236E7
- Format: PNG
- Compression Quality: 0.0
- Origin: X: -2.0037508342787E7
Y: 2.0037508342787E7
- Spatial Reference: 102100
(3857)
LatestVCSWkid(0)
Storage Info:
- Storage Format: esriMapCacheStorageModeCompactV2
- Packet Size: 128
Initial Extent:
XMin: -1.308422143857518E7
YMin: 6149632.869782372
XMax: -1.3032046611062067E7
YMax: 6189151.776297373
Spatial Reference: 102100
(3857)
LatestVCSWkid(0)
Full Extent:
XMin: -1.30749779452E7
YMin: 6114912.7108
XMax: -1.3028097131299999E7
YMax: 6258617.825400002
Spatial Reference: 102100
(3857)
LatestVCSWkid(0)
Units: esriMeters
Supported Image Format Types: PNG32,PNG24,PNG,JPG,DIB,TIFF,EMF,PS,PDF,GIF,SVG,SVGZ,BMP
Document Info:
Title: Channel Migration Zones
Author:
Comments: <DIV STYLE="text-align:Left;font-size:12pt"><P><SPAN>Channel Migration Zones (CMZs) are protected areas designated by WA Dept of Ecology as locations that a stream channel could migrate in. Also included is the regulatory buffer from the Pend Oreille County Development Regulations.</SPAN></P></DIV>
Subject: Channel Migration Zones and their POC regulatory Buffers
Category:
Keywords: Critical areas
AntialiasingMode: Fast
TextAntialiasingMode: Force
Supports Dynamic Layers: false
MaxRecordCount: 1000
MaxImageHeight: 4096
MaxImageWidth: 4096
Supported Query Formats: JSON, geoJSON, PBF
Supports Query Data Elements: true
Min Scale: 4622324.434309
Max Scale: 564.248588
Min LOD: 7
Max LOD: 20
Supports Datum Transformation: true
Child Resources:
Info
Supported Operations:
QueryLegends
Return Updates