View In:
ArcGIS JavaScript
ArcGIS Online Map Viewer
ArcGIS Earth
ArcGIS Pro
Service Description: <DIV STYLE="text-align:Left;font-size:12pt"><P><SPAN>This data is a combination of DNR soils data and slopes greater than 15% (derived from raster data). The two layers were intersected with one another so that soil polygons could be further dissected to be smaller and more specific. </SPAN></P></DIV>
Map Name: Geo Hazards
Legend
All Layers and Tables
Layers:
Description: <DIV STYLE="text-align:Left;font-size:12pt"><P><SPAN>This data is a combination of DNR soils data and slopes greater than 15% (derived from raster data). The two layers were intersected with one another so that soil polygons could be further dissected to be smaller and more specific. </SPAN></P></DIV>
Service Item Id: 2b863ef2a13749bd9ccb5c506e9b4063
Copyright Text: Pend Oreille County GIS
Spatial Reference:
102100
(3857)
LatestVCSWkid(0)
Single Fused Map Cache: true
Tile Info:
- Height: 256.0
- Width: 256.0
- DPI: 96.0
-
Levels of Detail: 24
-
Level ID: 1
[ Start Tile, End Tile ]
- Resolution: 78271.5169639999
- Scale: 2.95828763795777E8
-
Level ID: 2
[ Start Tile, End Tile ]
- Resolution: 39135.7584820001
- Scale: 1.47914381897889E8
-
Level ID: 3
[ Start Tile, End Tile ]
- Resolution: 19567.8792409999
- Scale: 7.3957190948944E7
-
Level ID: 4
[ Start Tile, End Tile ]
- Resolution: 9783.93962049996
- Scale: 3.6978595474472E7
-
Level ID: 5
[ Start Tile, End Tile ]
- Resolution: 4891.96981024998
- Scale: 1.8489297737236E7
- Format: PNG32
- Compression Quality: 0.0
- Origin: X: -2.0037508342787E7
Y: 2.0037508342787E7
- Spatial Reference: 102100
(3857)
LatestVCSWkid(0)
Storage Info:
- Storage Format: esriMapCacheStorageModeCompactV2
- Packet Size: 128
Initial Extent:
XMin: -1.3168878631357815E7
YMin: 6108885.489361144
XMax: -1.2938235593905486E7
YMax: 6283582.006242265
Spatial Reference: 102100
(3857)
LatestVCSWkid(0)
Full Extent:
XMin: -1.3094470015E7
YMin: 6114408.6076000035
XMax: -1.30279165195E7
YMax: 6274942.0901999995
Spatial Reference: 102100
(3857)
LatestVCSWkid(0)
Units: esriMeters
Supported Image Format Types: PNG32,PNG24,PNG,JPG,DIB,TIFF,EMF,PS,PDF,GIF,SVG,SVGZ,BMP
Document Info:
Title: Geo Hazards
Author:
Comments: <DIV STYLE="text-align:Left;font-size:12pt"><P><SPAN>This data is a combination of DNR soils data and slopes greater than 15% (derived from raster data). The two layers were intersected with one another so that soil polygons could be further dissected to be smaller and more specific. </SPAN></P></DIV>
Subject: A summation of the geohazards as it pertains to steep slopes and soil construction hazards
Category:
Keywords: Steep Slopes
AntialiasingMode: Fast
TextAntialiasingMode: Force
Supports Dynamic Layers: false
MaxRecordCount: 1000
MaxImageHeight: 4096
MaxImageWidth: 4096
Supported Query Formats: JSON, geoJSON, PBF
Supports Query Data Elements: true
Min Scale: 4622324.434309
Max Scale: 564.248588
Min LOD: 7
Max LOD: 20
Supports Datum Transformation: true
Child Resources:
Info
Supported Operations:
QueryLegends
Return Updates